BEGIN:VCALENDAR
VERSION:2.0
PRODID:spatie/icalendar-generator
DESCRIPTION:つくばの美容室・美容院｜グラマー（GLAMOUR）
 のイベント
X-WR-CALDESC:つくばの美容室・美容院｜グラマー（GLAMOUR）
 のイベント
REFRESH-INTERVAL;VALUE=DURATION:PT1440M
X-PUBLISHED-TTL:PT1440M
BEGIN:VTIMEZONE
TZID:Asia/Tokyo
BEGIN:STANDARD
DTSTART:20250118T000000Z
TZOFFSETFROM:+0900
TZOFFSETTO:+0900
END:STANDARD
END:VTIMEZONE
BEGIN:VTIMEZONE
TZID:UTC
BEGIN:STANDARD
DTSTART:20250729T164349Z
TZOFFSETFROM:+0000
TZOFFSETTO:+0000
END:STANDARD
END:VTIMEZONE
BEGIN:VEVENT
UID:357-43
DTSTAMP:20260425T164349Z
SUMMARY:定休日
LOCATION:
ORGANIZER;CN=glamour:MAILTO:glamour.vive@gmail.com
RRULE:FREQ=MONTHLY;BYDAY=3WE;COUNT=0
DTSTART;TZID=Asia/Tokyo;VALUE=DATE:20251015
DTEND;TZID=Asia/Tokyo;VALUE=DATE:20251016
X-ALT-DESC;FMTTYPE=TEXT/HTML:
CATEGORIES:Holiday
URL;VALUE=URI:https://glamour-tukuba.com/my-calendar/?mc_id=357&#038;vcal=3
 57
METHOD:PUBLISH
END:VEVENT
END:VCALENDAR